BEGIN:VCALENDAR
VERSION:2.0
PRODID:-//The Delaney at The Green - ECPv6.15.8//NONSGML v1.0//EN
CALSCALE:GREGORIAN
METHOD:PUBLISH
X-ORIGINAL-URL:https://delaneyatthegreen.com
X-WR-CALDESC:Events for The Delaney at The Green
REFRESH-INTERVAL;VALUE=DURATION:PT1H
X-Robots-Tag:noindex
X-PUBLISHED-TTL:PT1H
BEGIN:VTIMEZONE
TZID:America/New_York
BEGIN:DAYLIGHT
TZOFFSETFROM:-0500
TZOFFSETTO:-0400
TZNAME:EDT
DTSTART:20240310T070000
END:DAYLIGHT
BEGIN:STANDARD
TZOFFSETFROM:-0400
TZOFFSETTO:-0500
TZNAME:EST
DTSTART:20241103T060000
END:STANDARD
BEGIN:DAYLIGHT
TZOFFSETFROM:-0500
TZOFFSETTO:-0400
TZNAME:EDT
DTSTART:20250309T070000
END:DAYLIGHT
BEGIN:STANDARD
TZOFFSETFROM:-0400
TZOFFSETTO:-0500
TZNAME:EST
DTSTART:20251102T060000
END:STANDARD
BEGIN:DAYLIGHT
TZOFFSETFROM:-0500
TZOFFSETTO:-0400
TZNAME:EDT
DTSTART:20260308T070000
END:DAYLIGHT
BEGIN:STANDARD
TZOFFSETFROM:-0400
TZOFFSETTO:-0500
TZNAME:EST
DTSTART:20261101T060000
END:STANDARD
BEGIN:DAYLIGHT
TZOFFSETFROM:-0500
TZOFFSETTO:-0400
TZNAME:EDT
DTSTART:20270314T070000
END:DAYLIGHT
BEGIN:STANDARD
TZOFFSETFROM:-0400
TZOFFSETTO:-0500
TZNAME:EST
DTSTART:20271107T060000
END:STANDARD
END:VTIMEZONE
BEGIN:VEVENT
DTSTART;TZID=America/New_York:20260115T110000
DTEND;TZID=America/New_York:20260115T140000
DTSTAMP:20260420T064737
CREATED:20251212T144011Z
LAST-MODIFIED:20251214T181731Z
UID:2417-1768474800-1768485600@delaneyatthegreen.com
SUMMARY:The Hearing Brain Blueprint
DESCRIPTION:Join us for an insightful presentation led by Hearing Doctors of New Jersey.\nDid you know hearing loss and brain health are linked? Learn more about this powerful connection\, and what treatment options look like in 2026. \nRhee Nesson\, Au.D.\, founder of Hearing Doctors of New Jersey\, Author\, Certified Dementia Practitioner®\, and Certified Tinnitus Practitioner\, along with Jules May\, Au.D. and Certified Dementia Practitioner®\, and Certified Tinnitus Practitioner\, will share more on hearing loss’ connection to cognitive decline and steps you can take now to protect your long-term brain health. \nIf you’re 50 or older\, experience ringing in your ears\, have diabetes\, and have a family history of dementia\, this event is especially for you! \n\n\n                \n                        \n							"*" indicates required fields \n                        \n                        CommentsThis field is for validation purposes and should be left unchanged.First Name*Last Name*Phone Number*Email Address*\n                            \n                        Opt-In*\n								\n								Opt-In/Consent to be contacted by The Delaney at The Green*\n							This field is hidden when viewing the formWebFormCampaignAdwordGroupThis field is hidden when viewing the formWebFormCampaignNameThis field is hidden when viewing the formWebFormCampaignTermThis field is hidden when viewing the formWebFormCampaignMediumThis field is hidden when viewing the formGCLID*By submitting your information\, you agree to the terms and conditions of our privacy policy and consent policy  and agree that we\, or a partner on our behalf\, may call\, text\, and/or email you regarding your inquiry through manual or automated means\, including automated telephone dialing and messaging systems. Standard message rates apply. \n\n\n          \n            \n            \n            \n            \n            \n            \n            \n            \n            \n            \n            \n            \n            \n        \n                        Δ
URL:https://delaneyatthegreen.com/event/the-hearing-brain-blueprint/
LOCATION:The Delaney® at The Green\, 110 Park Avenue\, Florham Park\, NJ\, 07932\, United States
ATTACH;FMTTYPE=image/webp:https://delaneyatthegreen.com/wp-content/uploads/sites/2/2025/12/iStock-513854001.webp
END:VEVENT
BEGIN:VEVENT
DTSTART;TZID=America/New_York:20251213T110000
DTEND;TZID=America/New_York:20251213T140000
DTSTAMP:20260420T064737
CREATED:20251031T125715Z
LAST-MODIFIED:20251031T125715Z
UID:2345-1765623600-1765634400@delaneyatthegreen.com
SUMMARY:A MAGICAL HOLIDAY Open House
DESCRIPTION:At The Delaney at The Green\, holiday magic meets everyday living. \nYou’re invited to a joyful afternoon filled with festive spirit and community cheer! Enjoy a heartwarming performance by The Spotlight Kids Company\, sip on hot cocoa and hot apple cider\, savor sweet treats\, and experience our cozy lifestyle firsthand. \nWhether you’re looking to learn more about senior living options or simply delight in the holiday enchantment\, this is a perfect opportunity to see what makes our community shine all year long. \nRSVP Today! \n\n                \n                        \n							"*" indicates required fields \n                        \n                        X/TwitterThis field is for validation purposes and should be left unchanged.First Name*Last Name*Phone Number*Email Address*\n                            \n                        Opt-In*\n								\n								Opt-In/Consent to be contacted by The Delaney at The Green*\n							This field is hidden when viewing the formWebFormCampaignAdwordGroupThis field is hidden when viewing the formWebFormCampaignNameThis field is hidden when viewing the formWebFormCampaignTermThis field is hidden when viewing the formWebFormCampaignMediumThis field is hidden when viewing the formGCLID*By submitting your information\, you agree to the terms and conditions of our privacy policy and consent policy  and agree that we\, or a partner on our behalf\, may call\, text\, and/or email you regarding your inquiry through manual or automated means\, including automated telephone dialing and messaging systems. Standard message rates apply. \n\n\n          \n            \n            \n            \n            \n            \n            \n            \n            \n            \n            \n            \n            \n            \n        \n                        Δ
URL:https://delaneyatthegreen.com/event/a-magical-holiday-open-house/
LOCATION:The Delaney® at The Green\, 110 Park Avenue\, Florham Park\, NJ\, 07932\, United States
ATTACH;FMTTYPE=image/webp:https://delaneyatthegreen.com/wp-content/uploads/sites/2/2025/10/iStock-1282290961-cropped.webp
END:VEVENT
BEGIN:VEVENT
DTSTART;TZID=America/New_York:20251208T153000
DTEND;TZID=America/New_York:20251208T153000
DTSTAMP:20260420T064737
CREATED:20250121T214734Z
LAST-MODIFIED:20250304T230055Z
UID:1988-1765207800-1765207800@delaneyatthegreen.com
SUMMARY:Join Us for Acoustic Café! - December 8
DESCRIPTION:Live Music & Happy Hour With Mark Miklos\nEnjoy live country and bluegrass at The Delaney® at The Green’s monthly Acoustic Café! Unwind with our residents while enjoying the sounds of singer-songwriter Mark Miklos\, fresh appetizers\, and your favorite beverages. \nMonthly performances at 3:30 p.m. on Mondays \nSave your spot! Call 973-659-4195 or register using below form. \n\n                \n                        \n							"*" indicates required fields \n                        \n                        X/TwitterThis field is for validation purposes and should be left unchanged.First Name*Last Name*Phone Number*Email Address*\n                            \n                        Opt-In*\n								\n								Opt-In/Consent to be contacted by The Delaney at The Green*\n							This field is hidden when viewing the formWebFormCampaignAdwordGroupThis field is hidden when viewing the formWebFormCampaignNameThis field is hidden when viewing the formWebFormCampaignTermThis field is hidden when viewing the formWebFormCampaignMediumThis field is hidden when viewing the formGCLID*By submitting your information\, you agree to the terms and conditions of our privacy policy and consent policy  and agree that we\, or a partner on our behalf\, may call\, text\, and/or email you regarding your inquiry through manual or automated means\, including automated telephone dialing and messaging systems. Standard message rates apply. \n\n\n          \n            \n            \n            \n            \n            \n            \n            \n            \n            \n            \n            \n            \n            \n        \n                        Δ
URL:https://delaneyatthegreen.com/event/join-us-for-acoustic-cafe-11/
LOCATION:The Delaney® at The Green\, 110 Park Avenue\, Florham Park\, NJ\, 07932\, United States
ATTACH;FMTTYPE=image/webp:https://delaneyatthegreen.com/wp-content/uploads/sites/2/2025/01/bluegrass.webp
END:VEVENT
BEGIN:VEVENT
DTSTART;TZID=America/New_York:20251118T173000
DTEND;TZID=America/New_York:20251118T190000
DTSTAMP:20260420T064737
CREATED:20251013T144256Z
LAST-MODIFIED:20251112T171028Z
UID:2308-1763487000-1763492400@delaneyatthegreen.com
SUMMARY:Could One Night Change Your Life: Professional Panel
DESCRIPTION:Making Decisions About Your Loved One’s Future? You’re Not Alone.\nIf you’re wondering about senior living options\, concerned about finances or struggling with how to start these important conversations\, getting expert guidance can make all the difference. \nJoin trusted local professionals for a conversation focusing on helpful advice when discussing important life choices with your aging loved one. \nYou’ll Gain Clarity On: \n\nUnderstanding your options in senior living\nFinancial planning\nFamily conversations\nMaking the right choice\nTiming decisions\n\nRSVP Today!\n\n                \n                        \n							"*" indicates required fields \n                        \n                        FacebookThis field is for validation purposes and should be left unchanged.First Name*Last Name*Phone Number*Email Address*\n                            \n                        Opt-In*\n								\n								Opt-In/Consent to be contacted by The Delaney at The Green*\n							This field is hidden when viewing the formWebFormCampaignAdwordGroupThis field is hidden when viewing the formWebFormCampaignNameThis field is hidden when viewing the formWebFormCampaignTermThis field is hidden when viewing the formWebFormCampaignMediumThis field is hidden when viewing the formGCLID*By submitting your information\, you agree to the terms and conditions of our privacy policy and consent policy  and agree that we\, or a partner on our behalf\, may call\, text\, and/or email you regarding your inquiry through manual or automated means\, including automated telephone dialing and messaging systems. Standard message rates apply. \n\n\n          \n            \n            \n            \n            \n            \n            \n            \n            \n            \n            \n            \n            \n            \n        \n                        Δ
URL:https://delaneyatthegreen.com/event/could-one-night-change-your-life-professional-panel/
LOCATION:The Delaney® at The Green\, 110 Park Avenue\, Florham Park\, NJ\, 07932\, United States
ATTACH;FMTTYPE=image/webp:https://delaneyatthegreen.com/wp-content/uploads/sites/2/2025/10/iStock-2212374819.webp
END:VEVENT
BEGIN:VEVENT
DTSTART;TZID=America/New_York:20251117T153000
DTEND;TZID=America/New_York:20251117T153000
DTSTAMP:20260420T064737
CREATED:20250121T214635Z
LAST-MODIFIED:20250304T230015Z
UID:1987-1763393400-1763393400@delaneyatthegreen.com
SUMMARY:Join Us for Acoustic Café! - November 17
DESCRIPTION:Live Music & Happy Hour With Mark Miklos\nEnjoy live country and bluegrass at The Delaney® at The Green’s monthly Acoustic Café! Unwind with our residents while enjoying the sounds of singer-songwriter Mark Miklos\, fresh appetizers\, and your favorite beverages. \nMonthly performances at 3:30 p.m. on Mondays \nSave your spot! Call 973-659-4195 or register using below form. \n\n                \n                        \n							"*" indicates required fields \n                        \n                        InstagramThis field is for validation purposes and should be left unchanged.First Name*Last Name*Phone Number*Email Address*\n                            \n                        Opt-In*\n								\n								Opt-In/Consent to be contacted by The Delaney at The Green*\n							This field is hidden when viewing the formWebFormCampaignAdwordGroupThis field is hidden when viewing the formWebFormCampaignNameThis field is hidden when viewing the formWebFormCampaignTermThis field is hidden when viewing the formWebFormCampaignMediumThis field is hidden when viewing the formGCLID*By submitting your information\, you agree to the terms and conditions of our privacy policy and consent policy  and agree that we\, or a partner on our behalf\, may call\, text\, and/or email you regarding your inquiry through manual or automated means\, including automated telephone dialing and messaging systems. Standard message rates apply. \n\n\n          \n            \n            \n            \n            \n            \n            \n            \n            \n            \n            \n            \n            \n            \n        \n                        Δ
URL:https://delaneyatthegreen.com/event/join-us-for-acoustic-cafe-10/
LOCATION:The Delaney® at The Green\, 110 Park Avenue\, Florham Park\, NJ\, 07932\, United States
ATTACH;FMTTYPE=image/webp:https://delaneyatthegreen.com/wp-content/uploads/sites/2/2025/01/bluegrass.webp
END:VEVENT
BEGIN:VEVENT
DTSTART;TZID=America/New_York:20251007T153000
DTEND;TZID=America/New_York:20251007T153000
DTSTAMP:20260420T064737
CREATED:20250121T212652Z
LAST-MODIFIED:20250304T230025Z
UID:1986-1759851000-1759851000@delaneyatthegreen.com
SUMMARY:Join Us for Acoustic Café! - October 7
DESCRIPTION:Live Music & Happy Hour With Mark Miklos\nEnjoy live country and bluegrass at The Delaney® at The Green’s monthly Acoustic Café! Unwind with our residents while enjoying the sounds of singer-songwriter Mark Miklos\, fresh appetizers\, and your favorite beverages. \nMonthly performances at 3:30 p.m. on Mondays \nSave your spot! Call 973-659-4195 or register using below form. \n\n                \n                        \n							"*" indicates required fields \n                        \n                        PhoneThis field is for validation purposes and should be left unchanged.First Name*Last Name*Phone Number*Email Address*\n                            \n                        Opt-In*\n								\n								Opt-In/Consent to be contacted by The Delaney at The Green*\n							This field is hidden when viewing the formWebFormCampaignAdwordGroupThis field is hidden when viewing the formWebFormCampaignNameThis field is hidden when viewing the formWebFormCampaignTermThis field is hidden when viewing the formWebFormCampaignMediumThis field is hidden when viewing the formGCLID*By submitting your information\, you agree to the terms and conditions of our privacy policy and consent policy  and agree that we\, or a partner on our behalf\, may call\, text\, and/or email you regarding your inquiry through manual or automated means\, including automated telephone dialing and messaging systems. Standard message rates apply. \n\n\n          \n            \n            \n            \n            \n            \n            \n            \n            \n            \n            \n            \n            \n            \n        \n                        Δ
URL:https://delaneyatthegreen.com/event/join-us-for-acoustic-cafe-9/
LOCATION:The Delaney® at The Green\, 110 Park Avenue\, Florham Park\, NJ\, 07932\, United States
ATTACH;FMTTYPE=image/webp:https://delaneyatthegreen.com/wp-content/uploads/sites/2/2025/01/bluegrass.webp
END:VEVENT
BEGIN:VEVENT
DTSTART;TZID=America/New_York:20251001T140000
DTEND;TZID=America/New_York:20251001T160000
DTSTAMP:20260420T064737
CREATED:20250828T124119Z
LAST-MODIFIED:20250926T203926Z
UID:2203-1759327200-1759334400@delaneyatthegreen.com
SUMMARY:Groovin' at The Green: MOTOWN NIGHT
DESCRIPTION:Featuring Motor City Revue\nTurn up the excitement and relive the golden era of Motown with us! Motor City Revue\, a local favorite 12-piece band\, will be performing classic hits that will have you grooving and singing along. \nEnjoy delicious bites\, refreshing drinks\, and an incredible live show – all in the company of friends\, old and new. \nRSVP Today!\n\n                \n                        \n							"*" indicates required fields \n                        \n                        NameThis field is for validation purposes and should be left unchanged.First Name*Last Name*Phone Number*Email Address*\n                            \n                        Opt-In*\n								\n								Opt-In/Consent to be contacted by The Delaney at The Green*\n							This field is hidden when viewing the formWebFormCampaignAdwordGroupThis field is hidden when viewing the formWebFormCampaignNameThis field is hidden when viewing the formWebFormCampaignTermThis field is hidden when viewing the formWebFormCampaignMediumThis field is hidden when viewing the formGCLID*By submitting your information\, you agree to the terms and conditions of our privacy policy and consent policy  and agree that we\, or a partner on our behalf\, may call\, text\, and/or email you regarding your inquiry through manual or automated means\, including automated telephone dialing and messaging systems. Standard message rates apply. \n\n\n          \n            \n            \n            \n            \n            \n            \n            \n            \n            \n            \n            \n            \n            \n        \n                        Δ
URL:https://delaneyatthegreen.com/event/groovin-at-the-green-motown-night/
LOCATION:The Delaney® at The Green\, 110 Park Avenue\, Florham Park\, NJ\, 07932\, United States
ATTACH;FMTTYPE=image/webp:https://delaneyatthegreen.com/wp-content/uploads/sites/2/2025/08/motown-e1756384936373.webp
END:VEVENT
BEGIN:VEVENT
DTSTART;TZID=America/New_York:20250924T150000
DTEND;TZID=America/New_York:20250924T150000
DTSTAMP:20260420T064737
CREATED:20250828T123929Z
LAST-MODIFIED:20250828T123945Z
UID:2200-1758726000-1758726000@delaneyatthegreen.com
SUMMARY:Your Next Best Investment
DESCRIPTION:Informative Financial Seminar with Cocktail Hour\nDon’t leave your legacy to chance. Join us for an enlightening seminar with Tripp Higgins\, top senior living financial expert and President of myLifeSite\, who will share his wealth of knowledge on how to protect your legacy. \nTripp will discuss: \n\nBasic financial planning tips\nSenior living contracts\nThe benefits of choosing a Delaney community\nMoneyGauge\, a helpful tool that aligns your finances with your future goals\n\nRSVP Today!\n\n                \n                        \n							"*" indicates required fields \n                        \n                        CompanyThis field is for validation purposes and should be left unchanged.First Name*Last Name*Phone Number*Email Address*\n                            \n                        Opt-In*\n								\n								Opt-In/Consent to be contacted by The Delaney at The Green*\n							This field is hidden when viewing the formWebFormCampaignAdwordGroupThis field is hidden when viewing the formWebFormCampaignNameThis field is hidden when viewing the formWebFormCampaignTermThis field is hidden when viewing the formWebFormCampaignMediumThis field is hidden when viewing the formGCLID*By submitting your information\, you agree to the terms and conditions of our privacy policy and consent policy  and agree that we\, or a partner on our behalf\, may call\, text\, and/or email you regarding your inquiry through manual or automated means\, including automated telephone dialing and messaging systems. Standard message rates apply. \n\n\n          \n            \n            \n            \n            \n            \n            \n            \n            \n            \n            \n            \n            \n            \n        \n                        Δ
URL:https://delaneyatthegreen.com/event/your-next-best-investment/
LOCATION:The Delaney® at The Green\, 110 Park Avenue\, Florham Park\, NJ\, 07932\, United States
ATTACH;FMTTYPE=image/webp:https://delaneyatthegreen.com/wp-content/uploads/sites/2/2025/08/money-gauge.webp
END:VEVENT
BEGIN:VEVENT
DTSTART;TZID=America/New_York:20250908T153000
DTEND;TZID=America/New_York:20250908T153000
DTSTAMP:20260420T064737
CREATED:20250121T212630Z
LAST-MODIFIED:20250304T230033Z
UID:1985-1757345400-1757345400@delaneyatthegreen.com
SUMMARY:Join Us for Acoustic Café! - September 8
DESCRIPTION:Live Music & Happy Hour With Mark Miklos\nEnjoy live country and bluegrass at The Delaney® at The Green’s monthly Acoustic Café! Unwind with our residents while enjoying the sounds of singer-songwriter Mark Miklos\, fresh appetizers\, and your favorite beverages. \nMonthly performances at 3:30 p.m. on Mondays \nSave your spot! Call 973-659-4195 or register using below form. \n\n                \n                        \n							"*" indicates required fields \n                        \n                        LinkedInThis field is for validation purposes and should be left unchanged.First Name*Last Name*Phone Number*Email Address*\n                            \n                        Opt-In*\n								\n								Opt-In/Consent to be contacted by The Delaney at The Green*\n							This field is hidden when viewing the formWebFormCampaignAdwordGroupThis field is hidden when viewing the formWebFormCampaignNameThis field is hidden when viewing the formWebFormCampaignTermThis field is hidden when viewing the formWebFormCampaignMediumThis field is hidden when viewing the formGCLID*By submitting your information\, you agree to the terms and conditions of our privacy policy and consent policy  and agree that we\, or a partner on our behalf\, may call\, text\, and/or email you regarding your inquiry through manual or automated means\, including automated telephone dialing and messaging systems. Standard message rates apply. \n\n\n          \n            \n            \n            \n            \n            \n            \n            \n            \n            \n            \n            \n            \n            \n        \n                        Δ
URL:https://delaneyatthegreen.com/event/join-us-for-acoustic-cafe-8/
LOCATION:The Delaney® at The Green\, 110 Park Avenue\, Florham Park\, NJ\, 07932\, United States
ATTACH;FMTTYPE=image/webp:https://delaneyatthegreen.com/wp-content/uploads/sites/2/2025/01/bluegrass.webp
END:VEVENT
END:VCALENDAR